BEGIN:VCALENDAR
VERSION:2.0
PRODID:-//Evangelistic Revival Church - ECPv6.13.2.1//NONSGML v1.0//EN
CALSCALE:GREGORIAN
METHOD:PUBLISH
X-ORIGINAL-URL:https://revivalchurchmn.com
X-WR-CALDESC:Events for Evangelistic Revival Church
REFRESH-INTERVAL;VALUE=DURATION:PT1H
X-Robots-Tag:noindex
X-PUBLISHED-TTL:PT1H
BEGIN:VTIMEZONE
TZID:UTC
BEGIN:STANDARD
TZOFFSETFROM:+0000
TZOFFSETTO:+0000
TZNAME:UTC
DTSTART:20230101T000000
END:STANDARD
END:VTIMEZONE
BEGIN:VEVENT
DTSTART;TZID=UTC:20230409T140000
DTEND;TZID=UTC:20230409T153000
DTSTAMP:20260425T193457
CREATED:20230409T031000Z
LAST-MODIFIED:20230409T031227Z
UID:1418-1681048800-1681054200@revivalchurchmn.com
SUMMARY:Sunday Service
DESCRIPTION:
URL:https://revivalchurchmn.com/event/sunday-service/
LOCATION:Evangelisitc Revival Church\, 19951 Oswald Farm Rd\, Rogers\, MN\, 55374\, United States
END:VEVENT
END:VCALENDAR